Package: GAprediction Version: 1.33.0 Command: /Library/Frameworks/R.framework/Resources/bin/R CMD check --install=check:GAprediction.install-out.txt --library=/Library/Frameworks/R.framework/Resources/library --no-vignettes --timings GAprediction_1.33.0.tar.gz StartedAt: 2025-02-19 19:22:43 -0500 (Wed, 19 Feb 2025) EndedAt: 2025-02-19 19:23:13 -0500 (Wed, 19 Feb 2025) EllapsedTime: 30.4 seconds RetCode: 0 Status: OK CheckDir: GAprediction.Rcheck Warnings: 0