Package: GAprediction Version: 1.33.0 Command: /Library/Frameworks/R.framework/Resources/bin/R CMD build --keep-empty-dirs --no-resave-data GAprediction StartedAt: 2025-02-19 16:23:29 -0500 (Wed, 19 Feb 2025) EndedAt: 2025-02-19 16:23:44 -0500 (Wed, 19 Feb 2025) EllapsedTime: 15.2 seconds RetCode: 0 Status: OK PackageFile: GAprediction_1.33.0.tar.gz PackageFileSize: 1.806 MiB