Package: GARS Version: 1.27.0 Command: /Library/Frameworks/R.framework/Resources/bin/R CMD check --install=check:GARS.install-out.txt --library=/Library/Frameworks/R.framework/Resources/library --no-vignettes --timings GARS_1.27.0.tar.gz StartedAt: 2025-02-20 20:32:10 -0500 (Thu, 20 Feb 2025) EndedAt: 2025-02-20 20:39:39 -0500 (Thu, 20 Feb 2025) EllapsedTime: 449.0 seconds RetCode: 0 Status: OK CheckDir: GARS.Rcheck Warnings: 0