Package: GARS Version: 1.27.0 Command: /Library/Frameworks/R.framework/Resources/bin/R CMD build --keep-empty-dirs --no-resave-data GARS StartedAt: 2025-02-20 16:44:44 -0500 (Thu, 20 Feb 2025) EndedAt: 2025-02-20 16:46:59 -0500 (Thu, 20 Feb 2025) EllapsedTime: 135.1 seconds RetCode: 0 Status: OK PackageFile: GARS_1.27.0.tar.gz PackageFileSize: 438.3 KiB