Package: GA4GHshiny Version: 1.29.0 Command: E:\biocbuild\bbs-3.21-bioc\R\bin\R.exe CMD INSTALL GA4GHshiny StartedAt: 2025-02-19 16:53:05 -0500 (Wed, 19 Feb 2025) EndedAt: 2025-02-19 16:53:55 -0500 (Wed, 19 Feb 2025) EllapsedTime: 49.5 seconds RetCode: 0 Status: OK