Package: GA4GHshiny Version: 1.29.0 Command: /home/biocbuild/bbs-3.21-bioc/R/bin/R CMD build --keep-empty-dirs --no-resave-data GA4GHshiny StartedAt: 2025-02-19 17:18:19 -0500 (Wed, 19 Feb 2025) EndedAt: 2025-02-19 17:19:00 -0500 (Wed, 19 Feb 2025) EllapsedTime: 41.1 seconds RetCode: 0 Status: OK PackageFile: GA4GHshiny_1.29.0.tar.gz PackageFileSize: 298.8 KiB