Package: GA4GHclient Version: 1.31.0 Command: E:\biocbuild\bbs-3.21-bioc\R\bin\R.exe CMD INSTALL GA4GHclient StartedAt: 2025-02-20 16:32:33 -0500 (Thu, 20 Feb 2025) EndedAt: 2025-02-20 16:33:39 -0500 (Thu, 20 Feb 2025) EllapsedTime: 66.4 seconds RetCode: 0 Status: OK