Package: GA4GHclient Version: 1.31.0 Command: /Library/Frameworks/R.framework/Resources/bin/R CMD INSTALL GA4GHclient StartedAt: 2025-02-20 15:10:56 -0500 (Thu, 20 Feb 2025) EndedAt: 2025-02-20 15:11:11 -0500 (Thu, 20 Feb 2025) EllapsedTime: 15.3 seconds RetCode: 0 Status: OK