Package: G4SNVHunter Version: 0.99.4 Command: E:\biocbuild\bbs-3.21-bioc\R\bin\R.exe CMD INSTALL G4SNVHunter StartedAt: 2025-02-20 15:46:54 -0500 (Thu, 20 Feb 2025) EndedAt: 2025-02-20 15:47:27 -0500 (Thu, 20 Feb 2025) EllapsedTime: 32.2 seconds RetCode: 0 Status: OK