Package: G4SNVHunter Version: 0.99.4 Command: E:\biocbuild\bbs-3.21-bioc\R\bin\R.exe CMD check --no-multiarch --install=check:G4SNVHunter.install-out.txt --library=E:\biocbuild\bbs-3.21-bioc\R\library --no-vignettes --timings G4SNVHunter_0.99.4.tar.gz StartedAt: 2025-02-21 01:30:35 -0500 (Fri, 21 Feb 2025) EndedAt: 2025-02-21 01:35:49 -0500 (Fri, 21 Feb 2025) EllapsedTime: 313.7 seconds RetCode: 0 Status: OK CheckDir: G4SNVHunter.Rcheck Warnings: 0