Package: G4SNVHunter Version: 0.99.4 Command: chmod a+r G4SNVHunter -R && E:\biocbuild\bbs-3.21-bioc\R\bin\R.exe CMD build --keep-empty-dirs --no-resave-data G4SNVHunter StartedAt: 2025-02-20 18:50:36 -0500 (Thu, 20 Feb 2025) EndedAt: 2025-02-20 18:53:06 -0500 (Thu, 20 Feb 2025) EllapsedTime: 149.6 seconds RetCode: 0 Status: OK PackageFile: G4SNVHunter_0.99.4.tar.gz PackageFileSize: 1.151 MiB