Package: G4SNVHunter Version: 0.99.4 Command: rm -rf G4SNVHunter.buildbin-libdir && mkdir G4SNVHunter.buildbin-libdir && E:\biocbuild\bbs-3.21-bioc\R\bin\R.exe CMD INSTALL --build --library=G4SNVHunter.buildbin-libdir G4SNVHunter_0.99.4.tar.gz StartedAt: 2025-02-21 08:07:51 -0500 (Fri, 21 Feb 2025) EndedAt: 2025-02-21 08:08:24 -0500 (Fri, 21 Feb 2025) EllapsedTime: 33.4 seconds RetCode: 0 Status: OK PackageFile: G4SNVHunter_0.99.4.zip PackageFileSize: 1.508 MiB