Package: G4SNVHunter Version: 0.99.4 Command: /home/biocbuild/bbs-3.21-bioc/R/bin/R CMD INSTALL G4SNVHunter StartedAt: 2025-02-20 15:24:45 -0500 (Thu, 20 Feb 2025) EndedAt: 2025-02-20 15:25:03 -0500 (Thu, 20 Feb 2025) EllapsedTime: 17.6 seconds RetCode: 0 Status: OK