Package: G4SNVHunter Version: 0.99.4 Command: /home/biocbuild/bbs-3.21-bioc/R/bin/R CMD check --install=check:G4SNVHunter.install-out.txt --library=/home/biocbuild/bbs-3.21-bioc/R/site-library --timings G4SNVHunter_0.99.4.tar.gz StartedAt: 2025-02-20 22:06:37 -0500 (Thu, 20 Feb 2025) EndedAt: 2025-02-20 22:12:22 -0500 (Thu, 20 Feb 2025) EllapsedTime: 345.5 seconds RetCode: 0 Status: OK CheckDir: G4SNVHunter.Rcheck Warnings: 0