Package: G4SNVHunter Version: 0.99.4 Command: /Library/Frameworks/R.framework/Resources/bin/R CMD INSTALL G4SNVHunter StartedAt: 2025-02-20 15:10:55 -0500 (Thu, 20 Feb 2025) EndedAt: 2025-02-20 15:11:19 -0500 (Thu, 20 Feb 2025) EllapsedTime: 23.9 seconds RetCode: 0 Status: OK