Package: G4SNVHunter Version: 0.99.4 Command: /Library/Frameworks/R.framework/Resources/bin/R CMD check --install=check:G4SNVHunter.install-out.txt --library=/Library/Frameworks/R.framework/Resources/library --no-vignettes --timings G4SNVHunter_0.99.4.tar.gz StartedAt: 2025-02-20 20:31:52 -0500 (Thu, 20 Feb 2025) EndedAt: 2025-02-20 20:36:45 -0500 (Thu, 20 Feb 2025) EllapsedTime: 293.3 seconds RetCode: 0 Status: OK CheckDir: G4SNVHunter.Rcheck Warnings: 0