Package: G4SNVHunter Version: 0.99.4 Command: /Library/Frameworks/R.framework/Resources/bin/R CMD build --keep-empty-dirs --no-resave-data G4SNVHunter StartedAt: 2025-02-20 16:44:00 -0500 (Thu, 20 Feb 2025) EndedAt: 2025-02-20 16:46:10 -0500 (Thu, 20 Feb 2025) EllapsedTime: 130.4 seconds RetCode: 0 Status: OK PackageFile: G4SNVHunter_0.99.4.tar.gz PackageFileSize: 1.613 MiB