Package: G4SNVHunter Version: 0.99.4 Command: rm -rf G4SNVHunter.buildbin-libdir && mkdir G4SNVHunter.buildbin-libdir && /Users/biocbuild/BBS/utils/build-universal.sh G4SNVHunter_0.99.4.tar.gz /Library/Frameworks/R.framework/Resources/bin/R G4SNVHunter.buildbin-libdir StartedAt: 2025-02-21 00:31:36 -0500 (Fri, 21 Feb 2025) EndedAt: 2025-02-21 00:32:05 -0500 (Fri, 21 Feb 2025) EllapsedTime: 29.2 seconds RetCode: 0 Status: OK PackageFile: G4SNVHunter_0.99.4.tgz PackageFileSize: 1.666 MiB