Package: G4SNVHunter Version: 0.99.4 Command: /Library/Frameworks/R.framework/Resources/bin/R CMD check --install=check:G4SNVHunter.install-out.txt --library=/Library/Frameworks/R.framework/Resources/library --no-vignettes --timings G4SNVHunter_0.99.4.tar.gz StartedAt: 2025-02-20 19:19:56 -0500 (Thu, 20 Feb 2025) EndedAt: 2025-02-20 19:21:25 -0500 (Thu, 20 Feb 2025) EllapsedTime: 89.0 seconds RetCode: 0 Status: OK CheckDir: G4SNVHunter.Rcheck Warnings: 0