Package: G4SNVHunter Version: 0.99.4 Command: rm -rf G4SNVHunter.buildbin-libdir && mkdir G4SNVHunter.buildbin-libdir && /Users/biocbuild/BBS/utils/build-universal.sh G4SNVHunter_0.99.4.tar.gz /Library/Frameworks/R.framework/Resources/bin/R G4SNVHunter.buildbin-libdir StartedAt: 2025-02-20 22:19:27 -0500 (Thu, 20 Feb 2025) EndedAt: 2025-02-20 22:19:36 -0500 (Thu, 20 Feb 2025) EllapsedTime: 9.2 seconds RetCode: 0 Status: OK PackageFile: G4SNVHunter_0.99.4.tgz PackageFileSize: 1.664 MiB