Package: FuseSOM Version: 1.9.0 Command: /Library/Frameworks/R.framework/Resources/bin/R CMD INSTALL FuseSOM StartedAt: 2025-02-19 15:28:06 -0500 (Wed, 19 Feb 2025) EndedAt: 2025-02-19 15:28:17 -0500 (Wed, 19 Feb 2025) EllapsedTime: 11.2 seconds RetCode: 0 Status: OK