Package: FlowSOM Version: 2.15.0 Command: /home/biocbuild/bbs-3.21-bioc/R/bin/R CMD build --keep-empty-dirs --no-resave-data FlowSOM StartedAt: 2025-02-19 17:16:58 -0500 (Wed, 19 Feb 2025) EndedAt: 2025-02-19 17:18:30 -0500 (Wed, 19 Feb 2025) EllapsedTime: 92.2 seconds RetCode: 0 Status: OK PackageFile: FlowSOM_2.15.0.tar.gz PackageFileSize: 4.896 MiB