Package: FlowSOM Version: 2.15.0 Command: rm -rf FlowSOM.buildbin-libdir && mkdir FlowSOM.buildbin-libdir && /Users/biocbuild/BBS/utils/build-universal.sh FlowSOM_2.15.0.tar.gz /Library/Frameworks/R.framework/Resources/bin/R FlowSOM.buildbin-libdir StartedAt: 2025-02-20 00:32:35 -0500 (Thu, 20 Feb 2025) EndedAt: 2025-02-20 00:32:59 -0500 (Thu, 20 Feb 2025) EllapsedTime: 24.5 seconds RetCode: 0 Status: OK PackageFile: FlowSOM_2.15.0.tgz PackageFileSize: 5.212 MiB