Package: FlowSOM Version: 2.16.0 Command: /home/biocbuild/R/R/bin/R CMD INSTALL FlowSOM StartedAt: 2025-10-13 20:25:45 -0000 (Mon, 13 Oct 2025) EndedAt: 2025-10-13 20:26:03 -0000 (Mon, 13 Oct 2025) EllapsedTime: 18.2 seconds RetCode: 0 Status: OK