Package: FlowSOM Version: 2.16.0 Command: /home/biocbuild/R/R/bin/R CMD build --keep-empty-dirs --no-resave-data FlowSOM StartedAt: 2025-10-14 00:56:12 -0000 (Tue, 14 Oct 2025) EndedAt: 2025-10-14 00:58:54 -0000 (Tue, 14 Oct 2025) EllapsedTime: 161.1 seconds RetCode: 0 Status: OK PackageFile: FlowSOM_2.16.0.tar.gz PackageFileSize: 4.901 MiB