Package: FlowSOM Version: 2.15.0 Command: /Library/Frameworks/R.framework/Resources/bin/R CMD check --install=check:FlowSOM.install-out.txt --library=/Library/Frameworks/R.framework/Resources/library --no-vignettes --timings FlowSOM_2.15.0.tar.gz StartedAt: 2025-02-20 19:18:54 -0500 (Thu, 20 Feb 2025) EndedAt: 2025-02-20 19:22:12 -0500 (Thu, 20 Feb 2025) EllapsedTime: 198.5 seconds RetCode: 0 Status: OK CheckDir: FlowSOM.Rcheck Warnings: 0