Package: FitHiC Version: 1.33.0 Command: chmod a+r FitHiC -R && E:\biocbuild\bbs-3.21-bioc\R\bin\R.exe CMD build --keep-empty-dirs --no-resave-data FitHiC StartedAt: 2025-02-19 18:44:30 -0500 (Wed, 19 Feb 2025) EndedAt: 2025-02-19 18:47:28 -0500 (Wed, 19 Feb 2025) EllapsedTime: 178.4 seconds RetCode: 0 Status: OK PackageFile: FitHiC_1.33.0.tar.gz PackageFileSize: 27.05 MiB