Package: FitHiC Version: 1.33.0 Command: /Library/Frameworks/R.framework/Resources/bin/R CMD check --install=check:FitHiC.install-out.txt --library=/Library/Frameworks/R.framework/Resources/library --no-vignettes --timings FitHiC_1.33.0.tar.gz StartedAt: 2025-02-20 19:17:11 -0500 (Thu, 20 Feb 2025) EndedAt: 2025-02-20 19:18:07 -0500 (Thu, 20 Feb 2025) EllapsedTime: 56.8 seconds RetCode: 0 Status: OK CheckDir: FitHiC.Rcheck Warnings: 0