Package: FindIT2 Version: 1.13.0 Command: rm -rf FindIT2.buildbin-libdir && mkdir FindIT2.buildbin-libdir && E:\biocbuild\bbs-3.21-bioc\R\bin\R.exe CMD INSTALL --build --library=FindIT2.buildbin-libdir FindIT2_1.13.0.tar.gz StartedAt: 2025-02-21 08:06:16 -0500 (Fri, 21 Feb 2025) EndedAt: 2025-02-21 08:07:12 -0500 (Fri, 21 Feb 2025) EllapsedTime: 55.8 seconds RetCode: 0 Status: OK PackageFile: FindIT2_1.13.0.zip PackageFileSize: 1.543 MiB