Package: FindIT2 Version: 1.13.0 Command: /home/biocbuild/bbs-3.21-bioc/R/bin/R CMD INSTALL FindIT2 StartedAt: 2025-02-20 15:53:27 -0500 (Thu, 20 Feb 2025) EndedAt: 2025-02-20 15:54:04 -0500 (Thu, 20 Feb 2025) EllapsedTime: 37.1 seconds RetCode: 0 Status: OK