Package: FindIT2 Version: 1.13.0 Command: /Library/Frameworks/R.framework/Resources/bin/R CMD INSTALL FindIT2 StartedAt: 2025-02-21 15:32:06 -0500 (Fri, 21 Feb 2025) EndedAt: 2025-02-21 15:32:56 -0500 (Fri, 21 Feb 2025) EllapsedTime: 49.6 seconds RetCode: 0 Status: OK