Package: FindIT2 Version: 1.13.0 Command: /Library/Frameworks/R.framework/Resources/bin/R CMD check --install=check:FindIT2.install-out.txt --library=/Library/Frameworks/R.framework/Resources/library --no-vignettes --timings FindIT2_1.13.0.tar.gz StartedAt: 2025-02-21 20:27:29 -0500 (Fri, 21 Feb 2025) EndedAt: 2025-02-21 20:33:56 -0500 (Fri, 21 Feb 2025) EllapsedTime: 386.8 seconds RetCode: 0 Status: OK CheckDir: FindIT2.Rcheck Warnings: 0