Package: FindIT2 Version: 1.13.0 Command: /Library/Frameworks/R.framework/Resources/bin/R CMD build --keep-empty-dirs --no-resave-data FindIT2 StartedAt: 2025-02-21 16:42:36 -0500 (Fri, 21 Feb 2025) EndedAt: 2025-02-21 16:44:16 -0500 (Fri, 21 Feb 2025) EllapsedTime: 99.7 seconds RetCode: 0 Status: OK PackageFile: FindIT2_1.13.0.tar.gz PackageFileSize: 2.318 MiB