Package: FindIT2 Version: 1.13.0 Command: rm -rf FindIT2.buildbin-libdir && mkdir FindIT2.buildbin-libdir && /Users/biocbuild/BBS/utils/build-universal.sh FindIT2_1.13.0.tar.gz /Library/Frameworks/R.framework/Resources/bin/R FindIT2.buildbin-libdir StartedAt: 2025-02-22 00:31:53 -0500 (Sat, 22 Feb 2025) EndedAt: 2025-02-22 00:32:45 -0500 (Sat, 22 Feb 2025) EllapsedTime: 52.4 seconds RetCode: 0 Status: OK PackageFile: FindIT2_1.13.0.tgz PackageFileSize: 2.437 MiB