Package: FeatSeekR Version: 1.7.2 Command: /home/biocbuild/bbs-3.21-bioc/R/bin/R CMD INSTALL FeatSeekR StartedAt: 2025-02-20 15:41:56 -0500 (Thu, 20 Feb 2025) EndedAt: 2025-02-20 15:42:17 -0500 (Thu, 20 Feb 2025) EllapsedTime: 20.8 seconds RetCode: 0 Status: OK