Package: FeatSeekR Version: 1.7.2 Command: /Library/Frameworks/R.framework/Resources/bin/R CMD check --install=check:FeatSeekR.install-out.txt --library=/Library/Frameworks/R.framework/Resources/library --no-vignettes --timings FeatSeekR_1.7.2.tar.gz StartedAt: 2025-02-19 19:17:48 -0500 (Wed, 19 Feb 2025) EndedAt: 2025-02-19 19:18:47 -0500 (Wed, 19 Feb 2025) EllapsedTime: 58.7 seconds RetCode: 0 Status: OK CheckDir: FeatSeekR.Rcheck Warnings: 0