Package: FeatSeekR Version: 1.7.2 Command: rm -rf FeatSeekR.buildbin-libdir && mkdir FeatSeekR.buildbin-libdir && /Users/biocbuild/BBS/utils/build-universal.sh FeatSeekR_1.7.2.tar.gz /Library/Frameworks/R.framework/Resources/bin/R FeatSeekR.buildbin-libdir StartedAt: 2025-02-19 22:21:59 -0500 (Wed, 19 Feb 2025) EndedAt: 2025-02-19 22:22:09 -0500 (Wed, 19 Feb 2025) EllapsedTime: 9.2 seconds RetCode: 0 Status: OK PackageFile: FeatSeekR_1.7.2.tgz PackageFileSize: 392.1 KiB