Package: FastqCleaner Version: 1.25.0 Command: E:\biocbuild\bbs-3.21-bioc\R\bin\R.exe CMD check --no-multiarch --install=check:FastqCleaner.install-out.txt --library=E:\biocbuild\bbs-3.21-bioc\R\library --no-vignettes --timings FastqCleaner_1.25.0.tar.gz StartedAt: 2025-02-20 01:05:51 -0500 (Thu, 20 Feb 2025) EndedAt: 2025-02-20 01:10:19 -0500 (Thu, 20 Feb 2025) EllapsedTime: 268.3 seconds RetCode: 0 Status: OK CheckDir: FastqCleaner.Rcheck Warnings: 0