Package: FastqCleaner Version: 1.25.0 Command: chmod a+r FastqCleaner -R && E:\biocbuild\bbs-3.21-bioc\R\bin\R.exe CMD build --keep-empty-dirs --no-resave-data FastqCleaner StartedAt: 2025-02-19 18:42:00 -0500 (Wed, 19 Feb 2025) EndedAt: 2025-02-19 18:44:16 -0500 (Wed, 19 Feb 2025) EllapsedTime: 136.0 seconds RetCode: 0 Status: OK PackageFile: FastqCleaner_1.25.0.tar.gz PackageFileSize: 4.183 MiB