Package: FastqCleaner Version: 1.25.0 Command: rm -rf FastqCleaner.buildbin-libdir && mkdir FastqCleaner.buildbin-libdir && /Users/biocbuild/BBS/utils/build-universal.sh FastqCleaner_1.25.0.tar.gz /Library/Frameworks/R.framework/Resources/bin/R FastqCleaner.buildbin-libdir StartedAt: 2025-02-20 00:31:59 -0500 (Thu, 20 Feb 2025) EndedAt: 2025-02-20 00:33:03 -0500 (Thu, 20 Feb 2025) EllapsedTime: 64.1 seconds RetCode: 0 Status: OK PackageFile: FastqCleaner_1.25.0.tgz PackageFileSize: 3.772 MiB