Package: FastqCleaner Version: 1.25.0 Command: /Library/Frameworks/R.framework/Resources/bin/R CMD INSTALL FastqCleaner StartedAt: 2025-02-19 15:17:57 -0500 (Wed, 19 Feb 2025) EndedAt: 2025-02-19 15:18:14 -0500 (Wed, 19 Feb 2025) EllapsedTime: 17.2 seconds RetCode: 0 Status: OK