Package: FRGEpistasis Version: 1.43.0 Command: chmod a+r FRGEpistasis -R && E:\biocbuild\bbs-3.21-bioc\R\bin\R.exe CMD build --keep-empty-dirs --no-resave-data FRGEpistasis StartedAt: 2025-02-20 18:50:05 -0500 (Thu, 20 Feb 2025) EndedAt: 2025-02-20 18:50:34 -0500 (Thu, 20 Feb 2025) EllapsedTime: 29.0 seconds RetCode: 0 Status: OK PackageFile: FRGEpistasis_1.43.0.tar.gz PackageFileSize: 222.7 KiB