Package: FRGEpistasis Version: 1.43.0 Command: /home/biocbuild/bbs-3.21-bioc/R/bin/R CMD INSTALL FRGEpistasis StartedAt: 2025-02-21 15:50:41 -0500 (Fri, 21 Feb 2025) EndedAt: 2025-02-21 15:51:07 -0500 (Fri, 21 Feb 2025) EllapsedTime: 26.0 seconds RetCode: 0 Status: OK