Package: FRGEpistasis Version: 1.43.0 Command: /Library/Frameworks/R.framework/Resources/bin/R CMD INSTALL FRGEpistasis StartedAt: 2025-02-20 15:29:54 -0500 (Thu, 20 Feb 2025) EndedAt: 2025-02-20 15:29:57 -0500 (Thu, 20 Feb 2025) EllapsedTime: 3.1 seconds RetCode: 0 Status: OK