Package: FRASER Version: 2.3.0 Command: /home/biocbuild/bbs-3.21-bioc/R/bin/R CMD check --install=check:FRASER.install-out.txt --library=/home/biocbuild/bbs-3.21-bioc/R/site-library --timings FRASER_2.3.0.tar.gz StartedAt: 2025-02-20 22:05:58 -0500 (Thu, 20 Feb 2025) EndedAt: 2025-02-20 22:24:14 -0500 (Thu, 20 Feb 2025) EllapsedTime: 1096.6 seconds RetCode: 0 Status: OK CheckDir: FRASER.Rcheck Warnings: 0