Package: FRASER Version: 2.3.0 Command: /home/biocbuild/bbs-3.21-bioc/R/bin/R CMD build --keep-empty-dirs --no-resave-data FRASER StartedAt: 2025-02-20 17:29:40 -0500 (Thu, 20 Feb 2025) EndedAt: 2025-02-20 17:33:55 -0500 (Thu, 20 Feb 2025) EllapsedTime: 255.3 seconds RetCode: 0 Status: OK PackageFile: FRASER_2.3.0.tar.gz PackageFileSize: 2.515 MiB