Package: FRASER Version: 2.3.0 Command: /Library/Frameworks/R.framework/Resources/bin/R CMD INSTALL FRASER StartedAt: 2025-02-20 15:39:06 -0500 (Thu, 20 Feb 2025) EndedAt: 2025-02-20 15:40:48 -0500 (Thu, 20 Feb 2025) EllapsedTime: 101.8 seconds RetCode: 0 Status: OK