Package: FRASER Version: 2.3.0 Command: /Library/Frameworks/R.framework/Resources/bin/R CMD build --keep-empty-dirs --no-resave-data FRASER StartedAt: 2025-02-20 16:43:41 -0500 (Thu, 20 Feb 2025) EndedAt: 2025-02-20 16:48:29 -0500 (Thu, 20 Feb 2025) EllapsedTime: 287.3 seconds RetCode: 0 Status: OK PackageFile: FRASER_2.3.0.tar.gz PackageFileSize: 2.375 MiB