Package: FRASER Version: 2.3.0 Command: rm -rf FRASER.buildbin-libdir && mkdir FRASER.buildbin-libdir && /Users/biocbuild/BBS/utils/build-universal.sh FRASER_2.3.0.tar.gz /Library/Frameworks/R.framework/Resources/bin/R FRASER.buildbin-libdir StartedAt: 2025-02-21 00:31:31 -0500 (Fri, 21 Feb 2025) EndedAt: 2025-02-21 00:33:21 -0500 (Fri, 21 Feb 2025) EllapsedTime: 110.1 seconds RetCode: 0 Status: OK PackageFile: FRASER_2.3.0.tgz PackageFileSize: 3.337 MiB