Package: FRASER Version: 2.3.0 Command: /Library/Frameworks/R.framework/Resources/bin/R CMD build --keep-empty-dirs --no-resave-data FRASER StartedAt: 2025-02-20 16:22:34 -0500 (Thu, 20 Feb 2025) EndedAt: 2025-02-20 16:24:13 -0500 (Thu, 20 Feb 2025) EllapsedTime: 99.3 seconds RetCode: 0 Status: OK PackageFile: FRASER_2.3.0.tar.gz PackageFileSize: 2.368 MiB